BEGIN:VCALENDAR
PRODID:-//eluceo/ical//2.0/EN
VERSION:2.0
CALSCALE:GREGORIAN
BEGIN:VEVENT
UID:419387402174653f6e5c7d017715c108
DTSTAMP:20260421T084638Z
SUMMARY:Poberta
DTSTART;TZID=Europe/Prague:20260313T173000
DTEND;TZID=Europe/Prague:20260313T192800
LOCATION:Bio Central
END:VEVENT
END:VCALENDAR
BEGIN:VCALENDAR
PRODID:-//eluceo/ical//2.0/EN
VERSION:2.0
CALSCALE:GREGORIAN
BEGIN:VEVENT
UID:9e0ed9cf658437a0a51313586817c6db
DTSTAMP:20260421T084638Z
SUMMARY:Poberta
DTSTART;TZID=Europe/Prague:20260313T173000
DTEND;TZID=Europe/Prague:20260313T192800
LOCATION:Bio Central
END:VEVENT
END:VCALENDAR
