BEGIN:VCALENDAR
PRODID:-//eluceo/ical//2.0/EN
VERSION:2.0
CALSCALE:GREGORIAN
BEGIN:VEVENT
UID:142867eaeb8243b810263270fc4e3e4b
DTSTAMP:20260425T040034Z
SUMMARY:Top Gun
DTSTART;TZID=Europe/Prague:20260513T180000
DTEND;TZID=Europe/Prague:20260513T194600
LOCATION:Bio Central
END:VEVENT
END:VCALENDAR
BEGIN:VCALENDAR
PRODID:-//eluceo/ical//2.0/EN
VERSION:2.0
CALSCALE:GREGORIAN
BEGIN:VEVENT
UID:fa3473cdba623b3279bdef22b08140ff
DTSTAMP:20260425T040034Z
SUMMARY:Top Gun
DTSTART;TZID=Europe/Prague:20260513T180000
DTEND;TZID=Europe/Prague:20260513T194600
LOCATION:Bio Central
END:VEVENT
END:VCALENDAR
