BEGIN:VCALENDAR
PRODID:-//eluceo/ical//2.0/EN
VERSION:2.0
CALSCALE:GREGORIAN
BEGIN:VEVENT
UID:5ca5c2ff492e1a8adba476a884e11f70
DTSTAMP:20260424T012723Z
SUMMARY:Top Gun: Maverick
DTSTART;TZID=Europe/Prague:20260513T203000
DTEND;TZID=Europe/Prague:20260513T224100
LOCATION:Bio Central
END:VEVENT
END:VCALENDAR
BEGIN:VCALENDAR
PRODID:-//eluceo/ical//2.0/EN
VERSION:2.0
CALSCALE:GREGORIAN
BEGIN:VEVENT
UID:c40a947b264d0aa55adf65af65fb7180
DTSTAMP:20260424T012723Z
SUMMARY:Top Gun: Maverick
DTSTART;TZID=Europe/Prague:20260513T203000
DTEND;TZID=Europe/Prague:20260513T224100
LOCATION:Bio Central
END:VEVENT
END:VCALENDAR
