BEGIN:VCALENDAR
PRODID:-//eluceo/ical//2.0/EN
VERSION:2.0
CALSCALE:GREGORIAN
BEGIN:VEVENT
UID:9b5240ad12cbd519da79cdda36f1229c
DTSTAMP:20260420T060710Z
SUMMARY:Tajuplný vlak
DTSTART;TZID=Europe/Prague:20260525T200000
DTEND;TZID=Europe/Prague:20260525T215300
LOCATION:Bio Central
END:VEVENT
END:VCALENDAR
BEGIN:VCALENDAR
PRODID:-//eluceo/ical//2.0/EN
VERSION:2.0
CALSCALE:GREGORIAN
BEGIN:VEVENT
UID:7e014b278d868278f439ac461e2dbf13
DTSTAMP:20260420T060710Z
SUMMARY:Tajuplný vlak
DTSTART;TZID=Europe/Prague:20260525T200000
DTEND;TZID=Europe/Prague:20260525T215300
LOCATION:Bio Central
END:VEVENT
END:VCALENDAR
