BEGIN:VCALENDAR
PRODID:-//eluceo/ical//2.0/EN
VERSION:2.0
CALSCALE:GREGORIAN
BEGIN:VEVENT
UID:bfca9aba5ed65e2a6877759c4ca0513b
DTSTAMP:20260425T140456Z
SUMMARY:Údolí včel
DTSTART;TZID=Europe/Prague:20260629T200000
DTEND;TZID=Europe/Prague:20260629T213600
LOCATION:Bio Central
END:VEVENT
END:VCALENDAR
BEGIN:VCALENDAR
PRODID:-//eluceo/ical//2.0/EN
VERSION:2.0
CALSCALE:GREGORIAN
BEGIN:VEVENT
UID:d0f1351c866585d6ba23410587730618
DTSTAMP:20260425T140456Z
SUMMARY:Údolí včel
DTSTART;TZID=Europe/Prague:20260629T200000
DTEND;TZID=Europe/Prague:20260629T213600
LOCATION:Bio Central
END:VEVENT
END:VCALENDAR
