BEGIN:VCALENDAR
PRODID:-//eluceo/ical//2.0/EN
VERSION:2.0
CALSCALE:GREGORIAN
BEGIN:VEVENT
UID:a1e38bd7ca72cbe9b615b9bbc20b4a2e
DTSTAMP:20260425T103542Z
SUMMARY:Hlas Hind Radžab
DTSTART;TZID=Europe/Prague:20260515T143000
DTEND;TZID=Europe/Prague:20260515T155900
LOCATION:Bio Central
END:VEVENT
END:VCALENDAR
BEGIN:VCALENDAR
PRODID:-//eluceo/ical//2.0/EN
VERSION:2.0
CALSCALE:GREGORIAN
BEGIN:VEVENT
UID:0ecc5bfbb45cd740bb43918544f5440e
DTSTAMP:20260425T103542Z
SUMMARY:Hlas Hind Radžab
DTSTART;TZID=Europe/Prague:20260515T143000
DTEND;TZID=Europe/Prague:20260515T155900
LOCATION:Bio Central
END:VEVENT
END:VCALENDAR
