BEGIN:VCALENDAR
PRODID:-//eluceo/ical//2.0/EN
VERSION:2.0
CALSCALE:GREGORIAN
BEGIN:VEVENT
UID:db34e3e877b1a56693741d26791bdd31
DTSTAMP:20260420T180759Z
SUMMARY:Kdybych měla nohy\, tak ti nakopu
DTSTART;TZID=Europe/Prague:20260426T203000
DTEND;TZID=Europe/Prague:20260426T222300
LOCATION:Bio Central
END:VEVENT
END:VCALENDAR
BEGIN:VCALENDAR
PRODID:-//eluceo/ical//2.0/EN
VERSION:2.0
CALSCALE:GREGORIAN
BEGIN:VEVENT
UID:7e639dec5875cb2c62f23ad4a6cd397f
DTSTAMP:20260420T180759Z
SUMMARY:Kdybych měla nohy\, tak ti nakopu
DTSTART;TZID=Europe/Prague:20260426T203000
DTEND;TZID=Europe/Prague:20260426T222300
LOCATION:Bio Central
END:VEVENT
END:VCALENDAR
