BEGIN:VCALENDAR
PRODID:-//eluceo/ical//2.0/EN
VERSION:2.0
CALSCALE:GREGORIAN
BEGIN:VEVENT
UID:e771a7a0eefb93ff065f74a307fe06be
DTSTAMP:20260420T180621Z
SUMMARY:Kdybych měla nohy\, tak ti nakopu
DTSTART;TZID=Europe/Prague:20260429T180000
DTEND;TZID=Europe/Prague:20260429T195300
LOCATION:Bio Central
END:VEVENT
END:VCALENDAR
BEGIN:VCALENDAR
PRODID:-//eluceo/ical//2.0/EN
VERSION:2.0
CALSCALE:GREGORIAN
BEGIN:VEVENT
UID:d7453cae2e7490ff9029f4feb698e914
DTSTAMP:20260420T180621Z
SUMMARY:Kdybych měla nohy\, tak ti nakopu
DTSTART;TZID=Europe/Prague:20260429T180000
DTEND;TZID=Europe/Prague:20260429T195300
LOCATION:Bio Central
END:VEVENT
END:VCALENDAR
