BEGIN:VCALENDAR
PRODID:-//eluceo/ical//2.0/EN
VERSION:2.0
CALSCALE:GREGORIAN
BEGIN:VEVENT
UID:33174947f8d2b2e614f595bfc91b9ba2
DTSTAMP:20260424T013122Z
SUMMARY:Krvavá nevěsta: Hra začíná
DTSTART;TZID=Europe/Prague:20260425T200000
DTEND;TZID=Europe/Prague:20260425T214800
LOCATION:Bio Central
END:VEVENT
END:VCALENDAR
BEGIN:VCALENDAR
PRODID:-//eluceo/ical//2.0/EN
VERSION:2.0
CALSCALE:GREGORIAN
BEGIN:VEVENT
UID:adafeae373fd91de2ec795de3bf2f3f9
DTSTAMP:20260424T013122Z
SUMMARY:Krvavá nevěsta: Hra začíná
DTSTART;TZID=Europe/Prague:20260425T200000
DTEND;TZID=Europe/Prague:20260425T214800
LOCATION:Bio Central
END:VEVENT
END:VCALENDAR
