BEGIN:VCALENDAR
PRODID:-//eluceo/ical//2.0/EN
VERSION:2.0
CALSCALE:GREGORIAN
BEGIN:VEVENT
UID:020d574dcc912ab3e387b32dfc6584ba
DTSTAMP:20260420T175559Z
SUMMARY:Rally: Od Paříže k pyramidám
DTSTART;TZID=Europe/Prague:20260426T153000
DTEND;TZID=Europe/Prague:20260426T165200
LOCATION:Bio Central
END:VEVENT
END:VCALENDAR
BEGIN:VCALENDAR
PRODID:-//eluceo/ical//2.0/EN
VERSION:2.0
CALSCALE:GREGORIAN
BEGIN:VEVENT
UID:c0d1b520f7df5250bba2e51c6ef3f2e0
DTSTAMP:20260420T175559Z
SUMMARY:Rally: Od Paříže k pyramidám
DTSTART;TZID=Europe/Prague:20260426T153000
DTEND;TZID=Europe/Prague:20260426T165200
LOCATION:Bio Central
END:VEVENT
END:VCALENDAR
