BEGIN:VCALENDAR
PRODID:-//eluceo/ical//2.0/EN
VERSION:2.0
CALSCALE:GREGORIAN
BEGIN:VEVENT
UID:3e33bb290a3e9b053f396b2974041446
DTSTAMP:20260420T200538Z
SUMMARY:Zlatá vařečka
DTSTART;TZID=Europe/Prague:20260428T170000
DTEND;TZID=Europe/Prague:20260428T181500
LOCATION:Bio Central
END:VEVENT
END:VCALENDAR
BEGIN:VCALENDAR
PRODID:-//eluceo/ical//2.0/EN
VERSION:2.0
CALSCALE:GREGORIAN
BEGIN:VEVENT
UID:0d49f1b544e8dc971f957144b8f72175
DTSTAMP:20260420T200538Z
SUMMARY:Zlatá vařečka
DTSTART;TZID=Europe/Prague:20260428T170000
DTEND;TZID=Europe/Prague:20260428T181500
LOCATION:Bio Central
END:VEVENT
END:VCALENDAR
