BEGIN:VCALENDAR
PRODID:-//eluceo/ical//2.0/EN
VERSION:2.0
CALSCALE:GREGORIAN
BEGIN:VEVENT
UID:58303ea4429e4965ed061e05661e845a
DTSTAMP:20260420T180024Z
SUMMARY:Rally: Od Paříže k pyramidám
DTSTART;TZID=Europe/Prague:20260426T130000
DTEND;TZID=Europe/Prague:20260426T142200
LOCATION:Bio Central
END:VEVENT
END:VCALENDAR
BEGIN:VCALENDAR
PRODID:-//eluceo/ical//2.0/EN
VERSION:2.0
CALSCALE:GREGORIAN
BEGIN:VEVENT
UID:499b22377958e88918eb4051d8ecb82a
DTSTAMP:20260420T180024Z
SUMMARY:Rally: Od Paříže k pyramidám
DTSTART;TZID=Europe/Prague:20260426T130000
DTEND;TZID=Europe/Prague:20260426T142200
LOCATION:Bio Central
END:VEVENT
END:VCALENDAR
