BEGIN:VCALENDAR
PRODID:-//eluceo/ical//2.0/EN
VERSION:2.0
CALSCALE:GREGORIAN
BEGIN:VEVENT
UID:fb8848bb29b49e64828d2816640e55d4
DTSTAMP:20260423T165057Z
SUMMARY:Kill Bill: The Whole Bloody Affair
DTSTART;TZID=Europe/Prague:20260508T190000
DTEND;TZID=Europe/Prague:20260508T233500
LOCATION:Bio Central
END:VEVENT
END:VCALENDAR
BEGIN:VCALENDAR
PRODID:-//eluceo/ical//2.0/EN
VERSION:2.0
CALSCALE:GREGORIAN
BEGIN:VEVENT
UID:1ae064f9c91a829001760482419987c7
DTSTAMP:20260423T165057Z
SUMMARY:Kill Bill: The Whole Bloody Affair
DTSTART;TZID=Europe/Prague:20260508T190000
DTEND;TZID=Europe/Prague:20260508T233500
LOCATION:Bio Central
END:VEVENT
END:VCALENDAR
