BEGIN:VCALENDAR
PRODID:-//eluceo/ical//2.0/EN
VERSION:2.0
CALSCALE:GREGORIAN
BEGIN:VEVENT
UID:aa55c6066ce04506641c64b18a401996
DTSTAMP:20260423T234512Z
SUMMARY:Šampión
DTSTART;TZID=Europe/Prague:20260526T100000
DTEND;TZID=Europe/Prague:20260526T113000
LOCATION:Bio Central
END:VEVENT
END:VCALENDAR
BEGIN:VCALENDAR
PRODID:-//eluceo/ical//2.0/EN
VERSION:2.0
CALSCALE:GREGORIAN
BEGIN:VEVENT
UID:c9097c413503eebbb95a9b6d3af6b0a1
DTSTAMP:20260423T234512Z
SUMMARY:Šampión
DTSTART;TZID=Europe/Prague:20260526T100000
DTEND;TZID=Europe/Prague:20260526T113000
LOCATION:Bio Central
END:VEVENT
END:VCALENDAR
