BEGIN:VCALENDAR
PRODID:-//eluceo/ical//2.0/EN
VERSION:2.0
CALSCALE:GREGORIAN
BEGIN:VEVENT
UID:5323ef2b5d2ca67bc01a1710d6bbe527
DTSTAMP:20260425T102433Z
SUMMARY:Pan Nikdo proti Putinovi
DTSTART;TZID=Europe/Prague:20260503T203000
DTEND;TZID=Europe/Prague:20260503T220000
LOCATION:Bio Central
END:VEVENT
END:VCALENDAR
BEGIN:VCALENDAR
PRODID:-//eluceo/ical//2.0/EN
VERSION:2.0
CALSCALE:GREGORIAN
BEGIN:VEVENT
UID:4250d5de556d5f21779d32b22d994c5f
DTSTAMP:20260425T102433Z
SUMMARY:Pan Nikdo proti Putinovi
DTSTART;TZID=Europe/Prague:20260503T203000
DTEND;TZID=Europe/Prague:20260503T220000
LOCATION:Bio Central
END:VEVENT
END:VCALENDAR
