BEGIN:VCALENDAR
PRODID:-//eluceo/ical//2.0/EN
VERSION:2.0
CALSCALE:GREGORIAN
BEGIN:VEVENT
UID:5f5b7057113632ca8dcd417311caa291
DTSTAMP:20260424T190304Z
SUMMARY:Legendy Alysie
DTSTART;TZID=Europe/Prague:20260502T130000
DTEND;TZID=Europe/Prague:20260502T143300
LOCATION:Bio Central
END:VEVENT
END:VCALENDAR
BEGIN:VCALENDAR
PRODID:-//eluceo/ical//2.0/EN
VERSION:2.0
CALSCALE:GREGORIAN
BEGIN:VEVENT
UID:3542e1f79601ea0dd1561df5d1f630af
DTSTAMP:20260424T190304Z
SUMMARY:Legendy Alysie
DTSTART;TZID=Europe/Prague:20260502T130000
DTEND;TZID=Europe/Prague:20260502T143300
LOCATION:Bio Central
END:VEVENT
END:VCALENDAR
